{
 "currentVersion": 11.5,
 "serviceDescription": "17091_BOUNDARY__2019_MainMap_tiff",
 "serviceItemId": "4f583bcfa0804ca7a592a6d6761151f8",
 "name": "17091_BOUNDARY__2019_MainMap_tiff",
 "description": "",
 "extent": {
  "xmin": 513116.66189590446,
  "ymin": 2308647.2537012626,
  "xmax": 515497.51155840827,
  "ymax": 2310777.4480655524,
  "spatialReference": {
   "wkid": 102658,
   "latestWkid": 2236
  }
 },
 "initialExtent": {
  "xmin": 513116.66189590446,
  "ymin": 2308647.2537012626,
  "xmax": 515497.51155840827,
  "ymax": 2310777.4480655524,
  "spatialReference": {
   "wkid": 102658,
   "latestWkid": 2236
  }
 },
 "fullExtent": {
  "xmin": 513116.66189590446,
  "ymin": 2308647.2537012626,
  "xmax": 515497.51155840827,
  "ymax": 2310777.4480655524,
  "spatialReference": {
   "wkid": 102658,
   "latestWkid": 2236
  }
 },
 "sortableFields": "",
 "bandCount": 3,
 "pixelType": "U8",
 "minValues": [],
 "maxValues": [],
 "meanValues": [],
 "stdvValues": [],
 "serviceProperties": "Center<\/MosaicMethod>First<\/MosaicOperator>true<\/SortAscending><\/LockImageID><\/TileOrderField>0<\/TileOrderBase>0.000000<\/AvgImageSpacingX>0.000000<\/AvgImageSpacingY>0.0<\/ViewPointX>0.0<\/ViewPointY>0.0<\/ViewPointDefShiftX>0.0<\/ViewPointDefShiftY>None<\/CompressionMethod>75<\/CompressionQuality>0.010000<\/CompressionTolerance>Bilinear<\/SamplingMethod><\/ImageServiceProperties><\/ImageServer>",
 "allowedFields": "",
 "hasMultidimensions": false,
 "pixelSizeX": 0.3687809266579631,
 "pixelSizeY": 0.38257801082790105,
 "meanPixelSize": 0.11450733108750788,
 "datasetFormat": "TIFF",
 "uncompressedSize": 107841024,
 "blockWidth": 6456,
 "blockHeight": 1,
 "compressionType": "LZW",
 "bandNames": [
  "Band_1",
  "Band_2",
  "Band_3"
 ],
 "allowCopy": true,
 "allowAnalysis": true,
 "itemAccess": false,
 "inspectionCapabilities": "",
 "minPixelSize": 0,
 "maxPixelSize": 0,
 "copyrightText": "",
 "serviceDataType": "esriImageServiceDataTypeRGB",
 "serviceSourceType": "esriImageServiceSourceTypeDataset",
 "objectIdField": "",
 "fields": [],
 "capabilities": "Image,Metadata,Mensuration",
 "defaultMosaicMethod": "Center",
 "allowedMosaicMethods": "",
 "sortField": "",
 "sortValue": null,
 "sortAscending": true,
 "mosaicOperator": "First",
 "defaultCompressionQuality": 75,
 "defaultResamplingMethod": "Bilinear",
 "maxImageHeight": 4100,
 "maxImageWidth": 15000,
 "allowRasterFunction": true,
 "rasterFunctionInfos": [
  {
   "name": "None",
   "description": "",
   "help": ""
  }
 ],
 "rasterTypeInfos": [
  {
   "name": "Raster Dataset",
   "description": "Supports all ArcGIS Raster Datasets",
   "help": ""
  }
 ],
 "mensurationCapabilities": "Basic",
 "hasHistograms": false,
 "hasColormap": false,
 "hasRasterAttributeTable": false,
 "minScale": 0,
 "maxScale": 0,
 "exportTilesAllowed": false,
 "supportsStatistics": false,
 "supportsAdvancedQueries": false,
 "editFieldsInfo": null,
 "ownershipBasedAccessControlForRasters": null,
 "allowComputeTiePoints": false,
 "useStandardizedQueries": true,
 "advancedQueryCapabilities": {
  "useStandardizedQueries": true,
  "supportsStatistics": false,
  "supportsOrderBy": false,
  "supportsDistinct": false,
  "supportsPagination": false
 },
 "spatialReference": {
  "wkid": 102658,
  "latestWkid": 2236
 }
}
