View In:
ArcGIS JavaScript
ArcGIS Online Map Viewer
ArcGIS Earth
Service Description: PotentialWetland_Nassau_75Q_max_tif
Name: PotentialWetland_Nassau_75Q_max_tif
Description:
Single Fused Map Cache: false
Extent:
XMin: 318052.0
YMin: 2158664.0
XMax: 525754.0
YMax: 2366366.0
Spatial Reference: 0
(0)
LatestVCSWkid(0)
Initial Extent:
XMin: 318052.0
YMin: 2158664.0
XMax: 525754.0
YMax: 2366366.0
Spatial Reference: 0
(0)
LatestVCSWkid(0)
Full Extent:
XMin: 318052.0
YMin: 2158664.0
XMax: 525754.0
YMax: 2366366.0
Spatial Reference: 0
(0)
LatestVCSWkid(0)
Pixel Size X: 6.0
Pixel Size Y: 6.0
Band Count: 1
Pixel Type: U8
RasterFunction Infos: {"rasterFunctionInfos": [{
"name": "None",
"description": "",
"help": ""
}]}
Mensuration Capabilities: Basic
Inspection Capabilities:
Has Histograms: true
Has Colormap: false
Has Multi Dimensions : false
Rendering Rule:
Min Scale: 0
Max Scale: 0
Copyright Text:
Service Data Type: esriImageServiceDataTypeGeneric
Min Values: 0
Max Values: 2
Mean Values: 0.76769523212733
Standard Deviation Values: 0.79242865428633
Object ID Field:
Fields:
None
Default Mosaic Method: Center
Allowed Mosaic Methods:
SortField:
SortValue: null
Mosaic Operator: First
Default Compression Quality: 75
Default Resampling Method: Bilinear
Max Record Count: null
Max Image Height: 4100
Max Image Width: 15000
Max Download Image Count: null
Max Mosaic Image Count: null
Allow Raster Function: true
Allow Copy: true
Allow Analysis: true
Allow Compute TiePoints: false
Supports Statistics: false
Supports Advanced Queries: false
Use StandardizedQueries: true
Raster Type Infos:
Name: Raster Dataset
Description: Supports all ArcGIS Raster Datasets
Help:
Has Raster Attribute Table: false
Edit Fields Info: null
Ownership Based AccessControl For Rasters: null
Child Resources:
Info
Histograms
Statistics
Key Properties
Legend
Raster Function Infos
Supported Operations:
Export Image
Identify
Measure
Compute Histograms
Compute Statistics Histograms
Get Samples
Compute Class Statistics
Query Boundary
Compute Pixel Location
Compute Angles
Validate
Project