{
 "currentVersion": 11.5,
 "serviceDescription": "Sanborn1897",
 "serviceItemId": "c965989d2ba2417a9f6560fdf40ad617",
 "name": "Sanborn1897",
 "description": "",
 "extent": {
  "xmin": 509733.18809675495,
  "ymin": 2302943.121337153,
  "xmax": 513004.0564491359,
  "ymax": 2306119.454695394,
  "spatialReference": {
   "wkid": 102658,
   "latestWkid": 2236
  }
 },
 "initialExtent": {
  "xmin": 509733.18809675495,
  "ymin": 2302943.121337153,
  "xmax": 513004.0564491359,
  "ymax": 2306119.454695394,
  "spatialReference": {
   "wkid": 102658,
   "latestWkid": 2236
  }
 },
 "fullExtent": {
  "xmin": 509733.18809675495,
  "ymin": 2302943.121337153,
  "xmax": 513004.0564491359,
  "ymax": 2306119.454695394,
  "spatialReference": {
   "wkid": 102658,
   "latestWkid": 2236
  }
 },
 "sortableFields": "",
 "bandCount": 3,
 "pixelType": "U8",
 "minValues": [
  31,
  32,
  19
 ],
 "maxValues": [
  255,
  255,
  255
 ],
 "meanValues": [
  228.36643463055844,
  226.56438318965223,
  213.8428723015603
 ],
 "stdvValues": [
  26.03132251116478,
  27.04698495368053,
  29.48864359868993
 ],
 "serviceProperties": "Center<\/MosaicMethod>First<\/MosaicOperator>true<\/SortAscending><\/LockImageID><\/TileOrderField>0<\/TileOrderBase>0.000000<\/AvgImageSpacingX>0.000000<\/AvgImageSpacingY>0.0<\/ViewPointX>0.0<\/ViewPointY>0.0<\/ViewPointDefShiftX>0.0<\/ViewPointDefShiftY>None<\/CompressionMethod>75<\/CompressionQuality>0.010000<\/CompressionTolerance>Bilinear<\/SamplingMethod><\/ImageServiceProperties><\/ImageServer>",
 "allowedFields": "",
 "hasMultidimensions": false,
 "pixelSizeX": 0.8108250749580889,
 "pixelSizeY": 0.7617106374678129,
 "meanPixelSize": 0.2396549218835512,
 "datasetFormat": "FGDBR",
 "uncompressedSize": 50465340,
 "blockWidth": 128,
 "blockHeight": 128,
 "compressionType": "LZ77",
 "bandNames": [
  "Band_1",
  "Band_2",
  "Band_3"
 ],
 "allowCopy": true,
 "allowAnalysis": true,
 "itemAccess": false,
 "inspectionCapabilities": "",
 "minPixelSize": 0,
 "maxPixelSize": 0,
 "copyrightText": "",
 "serviceDataType": "esriImageServiceDataTypeRGB",
 "serviceSourceType": "esriImageServiceSourceTypeDataset",
 "objectIdField": "",
 "fields": [],
 "capabilities": "Image,Metadata,Mensuration",
 "defaultMosaicMethod": "Center",
 "allowedMosaicMethods": "",
 "sortField": "",
 "sortValue": null,
 "sortAscending": true,
 "mosaicOperator": "First",
 "defaultCompressionQuality": 75,
 "defaultResamplingMethod": "Bilinear",
 "maxImageHeight": 4100,
 "maxImageWidth": 15000,
 "allowRasterFunction": true,
 "rasterFunctionInfos": [
  {
   "name": "None",
   "description": "",
   "help": ""
  }
 ],
 "rasterTypeInfos": [
  {
   "name": "Raster Dataset",
   "description": "Supports all ArcGIS Raster Datasets",
   "help": ""
  }
 ],
 "mensurationCapabilities": "Basic",
 "hasHistograms": true,
 "hasColormap": false,
 "hasRasterAttributeTable": false,
 "minScale": 0,
 "maxScale": 0,
 "exportTilesAllowed": false,
 "supportsStatistics": false,
 "supportsAdvancedQueries": false,
 "editFieldsInfo": null,
 "ownershipBasedAccessControlForRasters": null,
 "allowComputeTiePoints": false,
 "useStandardizedQueries": true,
 "advancedQueryCapabilities": {
  "useStandardizedQueries": true,
  "supportsStatistics": false,
  "supportsOrderBy": false,
  "supportsDistinct": false,
  "supportsPagination": false
 },
 "spatialReference": {
  "wkid": 102658,
  "latestWkid": 2236
 }
}
