View In:
ArcGIS JavaScript
ArcGIS Online Map Viewer
ArcGIS Earth
Service Description: Sanborn1884new
Name: Sanborn1884new
Description:
Single Fused Map Cache: false
Extent:
XMin: 509634.48693776724
YMin: 2303561.697071549
XMax: 511194.48693776724
YMax: 2306071.697071549
Spatial Reference: 102658
(2236)
LatestVCSWkid(0)
Initial Extent:
XMin: 509634.48693776724
YMin: 2303561.697071549
XMax: 511194.48693776724
YMax: 2306071.697071549
Spatial Reference: 102658
(2236)
LatestVCSWkid(0)
Full Extent:
XMin: 509634.48693776724
YMin: 2303561.697071549
XMax: 511194.48693776724
YMax: 2306071.697071549
Spatial Reference: 102658
(2236)
LatestVCSWkid(0)
Pixel Size X: 1.0
Pixel Size Y: 1.0
Band Count: 3
Pixel Type: U8
RasterFunction Infos: {"rasterFunctionInfos": [{
"name": "None",
"description": "",
"help": ""
}]}
Mensuration Capabilities: Basic
Inspection Capabilities:
Has Histograms: true
Has Colormap: false
Has Multi Dimensions : false
Rendering Rule:
Min Scale: 0
Max Scale: 0
Copyright Text:
Service Data Type: esriImageServiceDataTypeRGB
Min Values: 21, 26, 13
Max Values: 255, 255, 248
Mean Values: 224.7510144458157, 220.66039475462028, 207.41303191141608
Standard Deviation Values: 30.87356287719059, 30.854551226127793, 30.991241152334673
Object ID Field:
Fields:
None
Default Mosaic Method: Center
Allowed Mosaic Methods:
SortField:
SortValue: null
Mosaic Operator: First
Default Compression Quality: 75
Default Resampling Method: Bilinear
Max Record Count: null
Max Image Height: 4100
Max Image Width: 15000
Max Download Image Count: null
Max Mosaic Image Count: null
Allow Raster Function: true
Allow Copy: true
Allow Analysis: true
Allow Compute TiePoints: false
Supports Statistics: false
Supports Advanced Queries: false
Use StandardizedQueries: true
Raster Type Infos:
Name: Raster Dataset
Description: Supports all ArcGIS Raster Datasets
Help:
Has Raster Attribute Table: false
Edit Fields Info: null
Ownership Based AccessControl For Rasters: null
Child Resources:
Info
Histograms
Statistics
Key Properties
Legend
Raster Function Infos
Supported Operations:
Export Image
Identify
Measure
Compute Histograms
Compute Statistics Histograms
Get Samples
Compute Class Statistics
Query Boundary
Compute Pixel Location
Compute Angles
Validate
Project