View In:
ArcGIS JavaScript
ArcGIS Online Map Viewer
ArcGIS Earth
Service Description: Sanborn1891
Name: Sanborn1891
Description:
Single Fused Map Cache: false
Extent:
XMin: 509763.4630637238
YMin: 2302934.051013795
XMax: 512994.99546731764
YMax: 2306102.9466725737
Spatial Reference: 102658
(2236)
LatestVCSWkid(0)
Initial Extent:
XMin: 509763.4630637238
YMin: 2302934.051013795
XMax: 512994.99546731764
YMax: 2306102.9466725737
Spatial Reference: 102658
(2236)
LatestVCSWkid(0)
Full Extent:
XMin: 509763.4630637238
YMin: 2302934.051013795
XMax: 512994.99546731764
YMax: 2306102.9466725737
Spatial Reference: 102658
(2236)
LatestVCSWkid(0)
Pixel Size X: 0.7758781281137634
Pixel Size Y: 0.7438722203705381
Band Count: 3
Pixel Type: U8
RasterFunction Infos: {"rasterFunctionInfos": [{
"name": "None",
"description": "",
"help": ""
}]}
Mensuration Capabilities: Basic
Inspection Capabilities:
Has Histograms: true
Has Colormap: false
Has Multi Dimensions : false
Rendering Rule:
Min Scale: 0
Max Scale: 0
Copyright Text:
Service Data Type: esriImageServiceDataTypeRGB
Min Values: 27, 26, 19
Max Values: 255, 255, 255
Mean Values: 224.4701197110728, 223.20897386389134, 212.13172447180187
Standard Deviation Values: 27.991657495281732, 28.43070032370004, 30.166779084038446
Object ID Field:
Fields:
None
Default Mosaic Method: Center
Allowed Mosaic Methods:
SortField:
SortValue: null
Mosaic Operator: First
Default Compression Quality: 75
Default Resampling Method: Bilinear
Max Record Count: null
Max Image Height: 4100
Max Image Width: 15000
Max Download Image Count: null
Max Mosaic Image Count: null
Allow Raster Function: true
Allow Copy: true
Allow Analysis: true
Allow Compute TiePoints: false
Supports Statistics: false
Supports Advanced Queries: false
Use StandardizedQueries: true
Raster Type Infos:
Name: Raster Dataset
Description: Supports all ArcGIS Raster Datasets
Help:
Has Raster Attribute Table: false
Edit Fields Info: null
Ownership Based AccessControl For Rasters: null
Child Resources:
Info
Histograms
Statistics
Key Properties
Legend
Raster Function Infos
Supported Operations:
Export Image
Identify
Measure
Compute Histograms
Compute Statistics Histograms
Get Samples
Compute Class Statistics
Query Boundary
Compute Pixel Location
Compute Angles
Validate
Project