View In:
  ArcGIS JavaScript
  ArcGIS Online Map Viewer
  ArcGIS Earth
Service Description:  Sanborn1903
Name:  Sanborn1903
Description:  
Single Fused Map Cache:  false
Extent: 
XMin: -0.5998401721902784
YMin: -1911.6773863665578
XMax: 513880.8139954067
YMax: 2311298.523228054
Spatial Reference: 102658
 (2236)
 LatestVCSWkid(0)
Initial Extent:
XMin: -0.5998401721902784
YMin: -1911.6773863665578
XMax: 513880.8139954067
YMax: 2311298.523228054
Spatial Reference: 102658
 (2236)
 LatestVCSWkid(0)
Full Extent:
XMin: -0.5998401721902784
YMin: -1911.6773863665578
XMax: 513880.8139954067
YMax: 2311298.523228054
Spatial Reference: 102658
 (2236)
 LatestVCSWkid(0)
Pixel Size X: 0.8717271540116827
Pixel Size Y:  0.6482734598358979
Band Count: 3
Pixel Type: U8
RasterFunction Infos:  {"rasterFunctionInfos": [{
 "name": "None",
 "description": "",
 "help": ""
}]}
Mensuration Capabilities: Basic
Inspection Capabilities: 
Has Histograms:  true
Has Colormap:  false
Has Multi Dimensions :  false
Rendering Rule: 
Min Scale:  0
Max Scale:  0
Copyright Text:  
Service Data Type:  esriImageServiceDataTypeRGB
Min Values:  31, 27, 9
Max Values:  255, 255, 255
Mean Values:  231.46514416661174, 230.6269515454787, 218.8747217418132
Standard Deviation Values:  24.443070810145926, 25.01291982324799, 29.608794780116604
Object ID Field:  
Fields: 
None
Default Mosaic Method:  Center
Allowed Mosaic Methods:  
SortField:  
SortValue:  null
Mosaic Operator:  First
Default Compression Quality:  75
Default Resampling Method:  Bilinear
Max Record Count:  null
Max Image Height:  4100
Max Image Width:  15000
Max Download Image Count:  null
Max Mosaic Image Count:  null
Allow Raster Function:  true
Allow Copy:  true
Allow Analysis:  true
Allow Compute TiePoints:  false
Supports Statistics:  false
Supports Advanced Queries:  false
Use StandardizedQueries:  true
Raster Type Infos: 
Name: Raster Dataset
Description: Supports all ArcGIS Raster Datasets
Help: 
Has Raster Attribute Table: false
Edit Fields Info:  null
Ownership Based AccessControl For Rasters:  null
Child Resources:
  
Info
  Histograms
  Statistics
  Key Properties
  Legend
  Raster Function Infos
Supported Operations:
  
Export Image
  Identify
  Measure
  Compute Histograms
  Compute Statistics Histograms
  Get Samples
  Compute Class Statistics
  Query Boundary
  Compute Pixel Location
  Compute Angles
  Validate
  Project